dset ^precip_clim_poe_03d_%m2%d2.bin
options template
title Global Tmax / Tmin Analyses
undef -999
xdef 360 linear 0 1
ydef 181 linear -90 1
zdef 19 levels 01 02 05 10 15 20 25 33 40 50 60 67 75 80 85 90 95 98 99
tdef 365 linear 01JAN2001 1DY
vars 1
precip 19 00 500hgt values at given percentiles
endvars
