dset ^precip_clim_mean_03d_%m2%d2.bin
options template
undef -999
xdef 360 linear 0 1
ydef 181 linear -90 1
zdef 1 levels 1 1
tdef 365 linear 01JAN2001 1DY
vars 1
precip 1 00 Mean precip
endvars
